BEGIN:VCALENDAR
VERSION:2.0
PRODID:-//American Advertising Federation-Southern Illinois Chapter - ECPv6.15.16//NONSGML v1.0//EN
CALSCALE:GREGORIAN
METHOD:PUBLISH
X-WR-CALNAME:American Advertising Federation-Southern Illinois Chapter
X-ORIGINAL-URL:https://aaf-si.org
X-WR-CALDESC:Events for American Advertising Federation-Southern Illinois Chapter
REFRESH-INTERVAL;VALUE=DURATION:PT1H
X-Robots-Tag:noindex
X-PUBLISHED-TTL:PT1H
BEGIN:VTIMEZONE
TZID:UTC
BEGIN:STANDARD
TZOFFSETFROM:+0000
TZOFFSETTO:+0000
TZNAME:UTC
DTSTART:20210101T000000
END:STANDARD
END:VTIMEZONE
BEGIN:VEVENT
DTSTART;TZID=UTC:20230222T173000
DTEND;TZID=UTC:20230222T210000
DTSTAMP:20260212T000631
CREATED:20221215T172923Z
LAST-MODIFIED:20221215T173256Z
UID:549-1677087000-1677099600@aaf-si.org
SUMMARY:
DESCRIPTION:[et_pb_section fb_built=”1″ make_equal=”on” use_custom_gutter=”on” specialty=”on” _builder_version=”4.19.3″ _module_preset=”default” use_background_color_gradient=”on” background_color_gradient_direction=”40deg” background_color_gradient_stops=”rgba(47\,195\,229\,0.6) 0%|rgba(180\,52\,73\,0.93) 100%” background_color_gradient_overlays_image=”on” module_alignment=”center” global_colors_info=”{}”][et_pb_column type=”3_4″ specialty_columns=”3″ _builder_version=”4.16″ custom_padding=”|||” global_colors_info=”{}” custom_padding__hover=”|||”][et_pb_row_inner _builder_version=”4.19.3″ _module_preset=”default” global_colors_info=”{}”][et_pb_column_inner saved_specialty_column_type=”3_4″ _builder_version=”4.19.3″ _module_preset=”default” global_colors_info=”{}”][et_pb_cta title=”2023 Addy Awards ” button_text=”Click Here” _builder_version=”4.19.3″ _module_preset=”default” header_font=”|800|||||||” header_font_size=”25px” header_line_height=”1.3em” background_color=”RGBA(255\,255\,255\,0)” global_colors_info=”{}”]\nThe American Advertising Awards is the ad industry’s largest and most representative competition recognizing the creative spirit of excellence in the art of advertising. \nCome celebrate the best in local advertising at Brews Brothers Taproom in Murphysboro. Doors open at 5:30 with the ceremony starting at 6pm \n[/et_pb_cta][et_pb_countdown_timer title=”2023 Addy Awards ” date_time=”2023-02-22 17:30″ _builder_version=”4.19.3″ _module_preset=”default” background_color=”RGBA(255\,255\,255\,0)” global_colors_info=”{}”][/et_pb_countdown_timer][/et_pb_column_inner][/et_pb_row_inner][/et_pb_column][et_pb_column type=”1_4″ _builder_version=”4.16″ custom_padding=”|||” global_colors_info=”{}” custom_padding__hover=”|||”][et_pb_image src=”https://aaf-si.org/wp-content/uploads/2021/12/AddyAwards.jpg&#8221; title_text=”AddyAwards” _builder_version=”4.19.3″ _module_preset=”default” global_colors_info=”{}”][/et_pb_image][/et_pb_column][/et_pb_section]
URL:https://aaf-si.org/event/549/
LOCATION:Brew Brothers Taproom\, 1105 Chestnut St\, Murphysboro\, 62966\, United States
END:VEVENT
BEGIN:VEVENT
DTSTART;TZID=UTC:20220824T163000
DTEND;TZID=UTC:20220824T183000
DTSTAMP:20260212T000631
CREATED:20211208T155124Z
LAST-MODIFIED:20220817T225530Z
UID:220-1661358600-1661365800@aaf-si.org
SUMMARY:AAFsi Mix 'n Meet
DESCRIPTION:[et_pb_section fb_built=”1″ _builder_version=”4.16″ _module_preset=”default” global_colors_info=”{}”][et_pb_row _builder_version=”4.16″ _module_preset=”default” global_colors_info=”{}”][et_pb_column type=”4_4″ _builder_version=”4.16″ _module_preset=”default” global_colors_info=”{}”][et_pb_text _builder_version=”4.18.0″ _module_preset=”default” global_colors_info=”{}”]Join us for AAFsi Mix ‘n Meet. \nDon’t miss this opportunity to connect with fellow communications\, advertising\, marketing\, and business professionals in southern Illinois!\nThe American Advertising Federation of Southern Illinois (AAFsi) is hosting a private party on the patio of Buckwater Brew Works to celebrate the upcoming year of advertising fun!\nYou do not have to be a member of AAFsi to attend.\nAll business professionals are encouraged to stop by\, grab a drink\, and learn more about AAFsi.\nTo join the private party\, please use Buckwater’s south patio entrance.\nWe look forward to connecting with other like-minded professionals from around the region!\n[/et_pb_text][et_pb_button button_url=”https://www.facebook.com/events/596833681790631&#8243; button_text=”Join us at 4:44 PM” _builder_version=”4.18.0″ _module_preset=”default” global_colors_info=”{}”][/et_pb_button][/et_pb_column][/et_pb_row][/et_pb_section]
URL:https://aaf-si.org/event/aafsi-mix-n-meet/
LOCATION:Buckwater Brew Works and Whiskey House\, 213 E Main\, Carbondale\, IL\, 62901\, United States
ATTACH;FMTTYPE=image/png:https://aaf-si.org/wp-content/uploads/2021/12/AAF_Club_FullLogo_color_AAF-american-advertising-federation-memphis-1.png
END:VEVENT
BEGIN:VEVENT
DTSTART;TZID=UTC:20220720T153000
DTEND;TZID=UTC:20220720T170000
DTSTAMP:20260212T000631
CREATED:20211208T154931Z
LAST-MODIFIED:20211208T154936Z
UID:219-1658331000-1658336400@aaf-si.org
SUMMARY:AAFSI JULY MEETING
DESCRIPTION:[et_pb_section fb_built=”1″ _builder_version=”4.14.2″ _module_preset=”default” global_colors_info=”{}” theme_builder_area=”post_content”][et_pb_row _builder_version=”4.14.2″ _module_preset=”default” global_colors_info=”{}” theme_builder_area=”post_content”][et_pb_column type=”4_4″ _builder_version=”4.14.2″ _module_preset=”default” global_colors_info=”{}” theme_builder_area=”post_content”][et_pb_text _builder_version=”4.14.2″ _module_preset=”default” global_colors_info=”{}” theme_builder_area=”post_content”]\nJoin us for our monthly meeting. On the 3rd Wednesday of the month\, the AAF-SI comes together to discuss the marketing and advertising landscape. \nSign up below to join us in person or via Zoom. \n[/et_pb_text][et_pb_button button_url=”https://aaf-si.org/monthly-meeting&#8221; button_text=”Join on Zoom” _builder_version=”4.14.2″ _module_preset=”default” global_colors_info=”{}” theme_builder_area=”post_content”][/et_pb_button][/et_pb_column][/et_pb_row][/et_pb_section]
URL:https://aaf-si.org/event/aafsi-july-meeting/
ATTACH;FMTTYPE=image/png:https://aaf-si.org/wp-content/uploads/2021/12/AAF_Club_FullLogo_color_AAF-american-advertising-federation-memphis-1.png
END:VEVENT
BEGIN:VEVENT
DTSTART;TZID=UTC:20220615T153000
DTEND;TZID=UTC:20220615T170000
DTSTAMP:20260212T000631
CREATED:20211208T154515Z
LAST-MODIFIED:20211208T155028Z
UID:218-1655307000-1655312400@aaf-si.org
SUMMARY:AAFSI JUNE MEETING
DESCRIPTION:[et_pb_section fb_built=”1″ _builder_version=”4.14.2″ _module_preset=”default” global_colors_info=”{}”][et_pb_row _builder_version=”4.14.2″ _module_preset=”default” global_colors_info=”{}”][et_pb_column type=”4_4″ _builder_version=”4.14.2″ _module_preset=”default” global_colors_info=”{}”][et_pb_text _builder_version=”4.14.2″ _module_preset=”default” global_colors_info=”{}”]\nJoin us for our monthly meeting. On the 3rd Wednesday of the month\, the AAF-SI comes together to discuss the marketing and advertising landscape. \nSign up below to join us in person or via Zoom. \n[/et_pb_text][et_pb_button button_url=”https://aaf-si.org/monthly-meeting&#8221; button_text=”Join on Zoom” _builder_version=”4.14.2″ _module_preset=”default” global_colors_info=”{}”][/et_pb_button][/et_pb_column][/et_pb_row][/et_pb_section]
URL:https://aaf-si.org/event/aafsi-june-meeting/
ATTACH;FMTTYPE=image/png:https://aaf-si.org/wp-content/uploads/2021/12/AAF_Club_FullLogo_color_AAF-american-advertising-federation-memphis-1.png
END:VEVENT
BEGIN:VEVENT
DTSTART;TZID=UTC:20220518T153000
DTEND;TZID=UTC:20220518T170000
DTSTAMP:20260212T000631
CREATED:20211208T153412Z
LAST-MODIFIED:20211208T153416Z
UID:194-1652887800-1652893200@aaf-si.org
SUMMARY:AAFSI MAY MEETING
DESCRIPTION:[et_pb_section fb_built=”1″ _builder_version=”4.14.2″ _module_preset=”default” global_colors_info=”{}” theme_builder_area=”post_content”][et_pb_row _builder_version=”4.14.2″ _module_preset=”default” global_colors_info=”{}” theme_builder_area=”post_content”][et_pb_column type=”4_4″ _builder_version=”4.14.2″ _module_preset=”default” global_colors_info=”{}” theme_builder_area=”post_content”][et_pb_text _builder_version=”4.14.2″ _module_preset=”default” global_colors_info=”{}” theme_builder_area=”post_content”]\nJoin us for our monthly meeting. On the 3rd Wednesday of the month\, the AAF-SI comes together to discuss the marketing and advertising landscape. \nSign up below to join us in person or via Zoom. \n[/et_pb_text][et_pb_button button_url=”https://aaf-si.org/monthly-meeting&#8221; button_text=”Join on Zoom” _builder_version=”4.14.2″ _module_preset=”default” global_colors_info=”{}” theme_builder_area=”post_content”][/et_pb_button][/et_pb_column][/et_pb_row][/et_pb_section]
URL:https://aaf-si.org/event/aafsi-may-meeting/
ATTACH;FMTTYPE=image/png:https://aaf-si.org/wp-content/uploads/2021/12/AAF_Club_FullLogo_color_AAF-american-advertising-federation-memphis-1.png
END:VEVENT
BEGIN:VEVENT
DTSTART;TZID=UTC:20220420T153000
DTEND;TZID=UTC:20220420T170000
DTSTAMP:20260212T000631
CREATED:20211208T153330Z
LAST-MODIFIED:20220331T175331Z
UID:193-1650468600-1650474000@aaf-si.org
SUMMARY:AAFSI APRIL MEETING
DESCRIPTION:[et_pb_section fb_built=”1″ _builder_version=”4.15.1″ _module_preset=”default” top_divider_style=”arrow3″ top_divider_color=”#26467d” global_colors_info=”{}”][et_pb_row column_structure=”1_2\,1_2″ _builder_version=”4.15.1″ _module_preset=”default” width=”95%” global_colors_info=”{}”][et_pb_column type=”1_2″ _builder_version=”4.15″ _module_preset=”default” global_colors_info=”{}”][et_pb_image src=”https://aaf-si.org/wp-content/uploads/2021/12/guest-Speaker.png&#8221; title_text=”guest Speaker” _builder_version=”4.15.1″ _module_preset=”default” custom_margin=”2vw||||false|false” global_colors_info=”{}”][/et_pb_image][/et_pb_column][et_pb_column type=”1_2″ _builder_version=”4.15″ _module_preset=”default” global_colors_info=”{}”][et_pb_text _builder_version=”4.15.1″ _module_preset=”default” custom_margin=”5vw||||false|false” global_colors_info=”{}”]\nThe April meeting of the AAF- Southern Illinois will be at Buckwater Brew Works & Whiskey House\, located at 213 E. Main Street in Carbondale. \nOur guest speaker will be Nic Skovgaard\, the founder of AlterEgo Marketing. \n  \n[/et_pb_text][et_pb_button button_url=”https://aaf-si.org/monthly-meeting&#8221; button_text=”Join on Zoom” _builder_version=”4.14.2″ _module_preset=”default” global_colors_info=”{}”][/et_pb_button][/et_pb_column][/et_pb_row][et_pb_row _builder_version=”4.15.1″ _module_preset=”default” hover_enabled=”0″ global_colors_info=”{}” sticky_enabled=”0″][et_pb_column type=”4_4″ _builder_version=”4.15.1″ _module_preset=”default” hover_enabled=”0″ global_colors_info=”{}” sticky_enabled=”0″][et_pb_text _builder_version=”4.15.1″ _module_preset=”default” hover_enabled=”0″ sticky_enabled=”0″]\nAbout Our Speaker\n[/et_pb_text][et_pb_text _builder_version=”4.15.1″ _module_preset=”default” custom_margin=”0vw||||false|false” hover_enabled=”0″ global_colors_info=”{}” sticky_enabled=”0″]\nNic Skovgaard is the founder of AlterEgo Marketing\, a full-service creative agency with clients spanning seven states. He graduated from Southern Illinois University Carbondale with a degree in Public Relations. \nSkovgaard founded AlterEgo Marketing in June 2014 and has represented many well-known businesses\, including RSP Heating & Cooling\, Integrity Roofing\, Wright Building Center\, The Southern Illinois Community Foundation\, The Miss Illinois Organization\, Joy Pet Food\, The Illinois Broadcasting Association\, Tru-Bilt Buildings\, and Flesner-Wentzel Law. \nNic is a graduate of the Leadership Carbondale program\, The Wizard Academy\, and The SBA’s Emerging Leaders Program. Nic has been recognized as one of The Southern Illinoisan’s 20 under 40 and The Carbondale Chamber’s Young Professional of the Year. He serves on the Board of Directors for the Carbondale Chamber of Commerce and is a member of both the Kiwanis Club and the Rotary Club. As the facilitator of the Jackson County CEO program\, a part of the Midland Institute for Entrepreneurship\, Nic helps students found their first business before they graduate high school. \nToday as the owner of AlterEgo Marketing\, I work with my team to help businesses across Illinois and beyond execute high-level\, long-term marketing strategies that focus on making a difference for their companies\, their customers\, and the communities they thrive in. \nNic currently lives in Herrin with his wife Nancy and four young children. \nSign up below to join us in person or via Zoom. \n[/et_pb_text][et_pb_button button_url=”https://aaf-si.org/monthly-meeting&#8221; button_text=”Join on Zoom” _builder_version=”4.14.2″ _module_preset=”default” global_colors_info=”{}”][/et_pb_button][/et_pb_column][/et_pb_row][/et_pb_section]
URL:https://aaf-si.org/event/aafsi-april-meeting/
ATTACH;FMTTYPE=image/png:https://aaf-si.org/wp-content/uploads/2021/12/AAF_Club_FullLogo_color_AAF-american-advertising-federation-memphis-1.png
END:VEVENT
BEGIN:VEVENT
DTSTART;TZID=UTC:20220316T153000
DTEND;TZID=UTC:20220316T170000
DTSTAMP:20260212T000631
CREATED:20211208T153102Z
LAST-MODIFIED:20211208T153247Z
UID:192-1647444600-1647450000@aaf-si.org
SUMMARY:AAFSI MARCH MEETING
DESCRIPTION:[et_pb_section fb_built=”1″ _builder_version=”4.14.2″ _module_preset=”default” global_colors_info=”{}”][et_pb_row _builder_version=”4.14.2″ _module_preset=”default” global_colors_info=”{}”][et_pb_column type=”4_4″ _builder_version=”4.14.2″ _module_preset=”default” global_colors_info=”{}”][et_pb_text _builder_version=”4.14.2″ _module_preset=”default” global_colors_info=”{}”]\nJoin us for our monthly meeting. On the 3rd Wednesday of the month\, the AAF-SI comes together to discuss the marketing and advertising landscape. \nSign up below to join us in person or via Zoom. \n[/et_pb_text][et_pb_button button_url=”https://aaf-si.org/monthly-meeting&#8221; button_text=”Join on Zoom” _builder_version=”4.14.2″ _module_preset=”default” global_colors_info=”{}”][/et_pb_button][/et_pb_column][/et_pb_row][/et_pb_section]
URL:https://aaf-si.org/event/aafsi-march-meeting/
ATTACH;FMTTYPE=image/png:https://aaf-si.org/wp-content/uploads/2021/12/AAF_Club_FullLogo_color_AAF-american-advertising-federation-memphis.png
END:VEVENT
BEGIN:VEVENT
DTSTART;TZID=UTC:20220216T153000
DTEND;TZID=UTC:20220216T170000
DTSTAMP:20260212T000631
CREATED:20211208T153004Z
LAST-MODIFIED:20211208T153230Z
UID:191-1645025400-1645030800@aaf-si.org
SUMMARY:AAFSI FEBRUARY MEETING
DESCRIPTION:[et_pb_section fb_built=”1″ _builder_version=”4.14.2″ _module_preset=”default” global_colors_info=”{}”][et_pb_row _builder_version=”4.14.2″ _module_preset=”default” global_colors_info=”{}”][et_pb_column type=”4_4″ _builder_version=”4.14.2″ _module_preset=”default” global_colors_info=”{}”][et_pb_text _builder_version=”4.14.2″ _module_preset=”default” global_colors_info=”{}”]\nJoin us for our monthly meeting. On the 3rd Wednesday of the month\, the AAF-SI comes together to discuss the marketing and advertising landscape. \nSign up below to join us in person or via Zoom. \n[/et_pb_text][et_pb_button button_url=”https://aaf-si.org/monthly-meeting&#8221; button_text=”Join on Zoom” _builder_version=”4.14.2″ _module_preset=”default” global_colors_info=”{}”][/et_pb_button][/et_pb_column][/et_pb_row][/et_pb_section]
URL:https://aaf-si.org/event/aafsi-february-meeting/
ATTACH;FMTTYPE=image/png:https://aaf-si.org/wp-content/uploads/2021/12/AAF_Club_FullLogo_color_AAF-american-advertising-federation-memphis.png
END:VEVENT
BEGIN:VEVENT
DTSTART;TZID=UTC:20220119T153000
DTEND;TZID=UTC:20220119T170000
DTSTAMP:20260212T000631
CREATED:20211208T152307Z
LAST-MODIFIED:20211208T153224Z
UID:190-1642606200-1642611600@aaf-si.org
SUMMARY:AAFSI JANUARY MEETING
DESCRIPTION:[et_pb_section fb_built=”1″ _builder_version=”4.14.2″ _module_preset=”default” global_colors_info=”{}”][et_pb_row _builder_version=”4.14.2″ _module_preset=”default” global_colors_info=”{}”][et_pb_column type=”4_4″ _builder_version=”4.14.2″ _module_preset=”default” global_colors_info=”{}”][et_pb_text _builder_version=”4.14.2″ _module_preset=”default” global_colors_info=”{}”]\nJoin us for our monthly meeting. On the 3rd Wednesday of the month\, the AAF-SI comes together to discuss the marketing and advertising landscape.  \nSign up below to join us in person or via Zoom. \n[/et_pb_text][et_pb_button button_url=”https://aaf-si.org/monthly-meeting/&#8221; button_text=”Sign Up for the Link” _builder_version=”4.14.2″ _module_preset=”default” global_colors_info=”{}”][/et_pb_button][/et_pb_column][/et_pb_row][/et_pb_section]
URL:https://aaf-si.org/event/aafsi-january-meeting/
ATTACH;FMTTYPE=image/png:https://aaf-si.org/wp-content/uploads/2021/12/AAF_Club_FullLogo_color_AAF-american-advertising-federation-memphis-1.png
END:VEVENT
END:VCALENDAR